BEGIN:VCALENDAR
PRODID:-//Hoodin AB//NONSGML Hoodin Smart Content Curator//EN
VERSION:2.0
BEGIN:VEVENT
UID:A65Wb4X4x4mgsgFuQ537AttlXhNMZL6k
CREATED:20260202T090434Z
DTSTAMP:20260422T111017Z
DTSTART:20260426T120000Z
DTEND:20260426T150000Z
DESCRIPTION:\nVi erbjuder canastaspel söndagar udda veckor mellan kl. 14.00-17.00. Du behöver inte anmäla dig utan det är bara till att dyka upp. \nVi ser fram emot att träffa dig!\nLedare: Ingrid volontär i Kävlinge kommun
LOCATION:Kullagatan 10B\, 24431\, Kävlinge
URL;VALUE=URI:https://evenemang.kavlinge.se/item/kortspel-canasta-12/a7smjg3qvzln52exo2uqaumsrnaz6he6
SUMMARY:Kortspel Canasta
TRANSP:TRANSPARENT
END:VEVENT
END:VCALENDAR