BEGIN:VCALENDAR
PRODID:-//Hoodin AB//NONSGML Hoodin Smart Content Curator//EN
VERSION:2.0
BEGIN:VEVENT
UID:3dwnflPCGBKEtHuGgmYLCBWrLAWBGCvw
CREATED:20260302T141231Z
DTSTAMP:20260421T014830Z
DTSTART:20260518T080000Z
DTEND:20260518T130000Z
DESCRIPTION:\nVälkommen att besöka oss på vårdcentralen Kävlinge\, Kvarngatan 21\, utan tidsbokning.&nbsp\;\nDu träffar personal från Handläggare- och Hälsofrämjande enheten:\n- Biståndshandläggare\n- Arbetsterapeut\n- Hälsovägledare \nVi lyssnar\, svarar på Dina frågor och ger vägledning kring hälsa\, hjälpmedel och stöd i vardagen – för en trygg och självständig vardag.\nFör frågor är du välkommen att kontakta mottaget på Handläggarenheten på telefon 046-73 90 00\nArrangeras i samverkan med Vårdcentralen Kävlinge
LOCATION:Kvarngatan 21\, 24431\, Kävlinge
URL;VALUE=URI:https://evenemang.kavlinge.se/item/oppet-hus-71/ewaf8cqnjuqtan0ggxu93ofhsjhtrcgs
SUMMARY:Öppet hus
TRANSP:TRANSPARENT
END:VEVENT
END:VCALENDAR