BEGIN:VCALENDAR
PRODID:-//Hoodin AB//NONSGML Hoodin Smart Content Curator//EN
VERSION:2.0
BEGIN:VEVENT
UID:RENSqjnyUcuJEr2qkApJc4J87c31OoXN
CREATED:20260302T141903Z
DTSTAMP:20260425T164749Z
DTSTART:20260429T080000Z
DTEND:20260429T120000Z
DESCRIPTION:\nVälkommen att besöka oss på HMC\, Hälsomedicinskt Center Löddeköpinge\, Marknadsvägen 7\, utan tidsbokning.&nbsp\;\nDu träffar personal från Handläggare- och Hälsofrämjande enheten:\n- Biståndshandläggare\n- Arbetsterapeut\n- Hälsovägledare \nVi lyssnar\, svarar på Dina frågor och ger vägledning kring hälsa\, hjälpmedel och stöd i vardagen – för en trygg och självständig vardag.\nFör frågor är du välkommen att kontakta mottaget på Handläggarenheten på telefon 046-73 90 00\nArrangeras i samverkan med Hälsomedicinskt Center Löddeköpinge
LOCATION:
URL;VALUE=URI:https://evenemang.kavlinge.se/item/oppet-hus-72/l6rtkurf9nix6qyj96ywatec141moxom
SUMMARY:Öppet hus
TRANSP:TRANSPARENT
END:VEVENT
END:VCALENDAR