BEGIN:VCALENDAR
PRODID:-//Hoodin AB//NONSGML Hoodin Smart Content Curator//EN
VERSION:2.0
BEGIN:VEVENT
UID:abp8mIsm93duC1RXBXklCo3Qzn8CA3yb
CREATED:20260302T145616Z
DTSTAMP:20260422T143613Z
DTSTART:20260526T110000Z
DTEND:20260526T130000Z
DESCRIPTION:\nAktiviteten passar både dig som vill lära dig fiska och för dig som vill fördjupa dina fiskekunskaper. Aktiviteterna är kostnadsfria. \nTillfällen:\n21 april kl.13-15 Fiskeaktivitet &amp\; fika \, Kävlinge. OBS INSTÄLLD den 21 april\n\n26 maj kl.13-15 Fiskeaktivitet &amp\; fika \, Kävlinge https://maps.app.goo.gl/75Y32BgURj14i96DA \n2 juni kl.13-15 Fiskeaktivitet &amp\; fika i Furulund Obs! Annan fiske plats vid sista tillfället-cementadammarna Furulund. Samling: Parkeringen vid Södra Ljungvägen 33\, Furulund.'\nVid frågor och anmälan kontakta: Therese.elm@kavlinge.se \, 046-280 42 22. Du kan anmäla dig till ett eller flera tillfällen. \nVid frågor kring programmet kontakta patrick.friestad@sportfiskarna.se \, 0732-015723&nbsp\;\nArrangeras i samverkan med SportFiskarna och Svenskt Friluftsliv
LOCATION:Högalidsvägen 33\, 244 30\, Kävlinge
URL;VALUE=URI:https://evenemang.kavlinge.se/item/prova-pa-fiske-for-seniorer/jkqqvwg4mhtlqoeukar3hbdgidtw0kqf
SUMMARY:Prova på fiske för seniorer
TRANSP:TRANSPARENT
END:VEVENT
END:VCALENDAR