BEGIN:VCALENDAR
PRODID:-//Hoodin AB//NONSGML Hoodin Smart Content Curator//EN
VERSION:2.0
BEGIN:VEVENT
UID:FekGvQ6SbtzvyBkGTCbVdCMt58o85cXz
CREATED:20260321T093406Z
DTSTAMP:20260422T111017Z
DTSTART:20260412T140000Z
DTEND:20260412T160000Z
DESCRIPTION:\nEn liten tillbakadragen ekonomiansvarig\, Norlén\, på ett företag skall presentera företagets bokslut i stället för företagets VD\, som plötsligt fått förhinder. Han brukar aldrig missa en presentation. Norlén presenterar bokslutet en stund men istället för att redogöra för bokslutet berättar han om sig själv\, sitt liv och sin oförmåga att passa in i gemenskapen. Men framför allt berättar han om sin svindlande kärlekshistoria med en annan av företagets udda anställda\, Maria\, som försvunnit efter att ha frusits ut på arbetsplatsen. En passionerad kärlekshistoria om ett möte i utanförskap som slutar med ett stort svek och en hemlighet avslöjas.Medverkande\nOla HedénKonstnärligt team\nManus och regi: Håkan Johnsson\nPå Scen: Ola HedénProducent\nTeater Allan
LOCATION:Sunnanväg 2\, 244 30\, Kävlinge
URL;VALUE=URI:https://evenemang.kavlinge.se/item/bokslut-en-tragikomisk-internredovisning/xmzthbsf4yoe1iwsb8fi7ftbmyqaqkxj
SUMMARY:Bokslut - en tragikomisk internredovisning
TRANSP:TRANSPARENT
END:VEVENT
END:VCALENDAR