BEGIN:VCALENDAR
PRODID:-//Hoodin AB//NONSGML Hoodin Smart Content Curator//EN
VERSION:2.0
BEGIN:VEVENT
UID:DdAwLgaQeBZURhpuIWZDtIWhhsZTHrEy
CREATED:20260321T094146Z
DTSTAMP:20260422T171636Z
DTSTART:20260426T140000Z
DTEND:20260426T153000Z
DESCRIPTION:\nElias Faingersh - musiker\, tonsättare och underhållare gör en musikalisk stand up show om sina år i New York där han studerade på Manhattan School of Music och fick möjligheten att spela i den berömda Metropolitan Operans Orkestern.\nDär och då fattade han beslutet att lämna New York och den trygga orkestermusikers tillvaron för det osäkra men så mycket mer givande solo karriären. I den vackra\, rörande och mycket humoristiska föreställningen spelar han dem berömda opera arier och sina egna kompositioner\, och med hjälp av live elektronik låter musiken som om den spelas av en hel orkester.Medverkande\nElias FaingershKonstnärligt team\nKeren KlimovskyProducent\nTeater Kef
LOCATION:Kvarngatan 17\, 244 31\, Kävlinge
URL;VALUE=URI:https://evenemang.kavlinge.se/item/ett-solo-fran-orkesterdiket/38xfzsigtbpy5mljfinduxmzovsfogv2
SUMMARY:Ett Solo Från Orkesterdiket
TRANSP:TRANSPARENT
END:VEVENT
END:VCALENDAR