BEGIN:VCALENDAR
PRODID:-//Hoodin AB//NONSGML Hoodin Smart Content Curator//EN
VERSION:2.0
BEGIN:VEVENT
UID:JKrJJ9evK8kN0DKa8qBTTttdmBwKUtFP
CREATED:20260325T101639Z
DTSTAMP:20260420T171359Z
DTSTART:20260423T113000Z
DTEND:20260423T121500Z
DESCRIPTION:\n En stark och personlig berättelse om:\n • Vad som händer när livet plötsligt stannar\n • Hur det känns att vakna upp till ett nytt liv \n• Tacksamheten över vardagen vi ofta tar för given \n• Varför HLR och hjärtstartare kan rädda liv 20 bonusår fyllda av sådant som annars aldrig hade hänt studentdagar\, examina\, karriärer\, bröllop\, barnbarn och kärlek. \nEn föreläsning om överlevnad\, hopp och livets värde. \nAnmälan krävs och görs senast 21 april. Vid färre än 8 deltagare kommer evenemanget att ställas in. Anmälan:– via mejl: halsoframjande.enhetenKAV@kavlinge.se \nVälkommen till en föreläsning som berör och kan rädda liv.&nbsp\;
LOCATION:Högalidsvägen 33\, 244 30\, Kävlinge
URL;VALUE=URI:https://evenemang.kavlinge.se/item/en-forelasning-om-hjartstopp-hjaltar-och-livet-som-fortsatte/zka7duqjtyupkb5vdzctu9ytkaxub7ve
SUMMARY:En föreläsning om hjärtstopp\, hjältar och livet som fortsatte
TRANSP:TRANSPARENT
END:VEVENT
END:VCALENDAR