BEGIN:VCALENDAR
PRODID:-//Hoodin AB//NONSGML Hoodin Smart Content Curator//EN
VERSION:2.0
BEGIN:VEVENT
UID:BTXscJXnFNa3obQ16bWEXRbIohbRl71W
CREATED:20260326T104350Z
DTSTAMP:20260420T205118Z
DTSTART:20260424T080000Z
DTEND:20260424T090000Z
DESCRIPTION:\nHur kan vi vara vuxna digitala förebilder för våra barn.\nVarför finns det rekommendationer kring skärmanvändning.\nVi kommer även att titta på hur man kan använda digitala verktyg på ett säkert och pedagogiskt sätt tillsammans med barnen.\nDet kommer att finnas möjlighet att få testa några barnvänliga digital verktyg.Arrangörer\nÖppna förskolan Familjecentralen Center Syd\nArrangörens e-post\nmaria.andersson1@kavlinge.se\nArrangörens webbplats \nhttps://www.kavlinge.se/barn-och-utbildning/forskola/oppen-forskola
LOCATION:marknadsvägen 7\, 24642\, löddeköpinge
URL;VALUE=URI:https://evenemang.kavlinge.se/item/skarmstark-forebild-3/lyt5aptz71rnptqyezwanijakjo21odx
SUMMARY:Skärmstark förebild
TRANSP:TRANSPARENT
END:VEVENT
END:VCALENDAR