BEGIN:VCALENDAR
PRODID:-//Hoodin AB//NONSGML Hoodin Smart Content Curator//EN
VERSION:2.0
BEGIN:VEVENT
UID:5cBO50gDtT1rxjmlrh482K1OMR5glULw
CREATED:20260401T155551Z
DTSTAMP:20260422T145253Z
DTSTART:20260421T153000Z
DTEND:20260421T180000Z
DESCRIPTION:\nAnders Persson Docent i statsvetenskap och expertkommentator på SVT\, TV4 och SR i frågor rörande Israel-Palestinakonflikten. Björn Andersson beskriver säkerhetsläget i Kävlinge kommun. Hur påverkas vi lokalt av allt som händer i omvärlden och de allt hotfullare\nKaffe serveras ifrån 17.30 och i pausen pris 30 kr\nArrangörer\n\nKävlinge och Löddeköpinge Lions Klubbar\nArrangörens e-post\nInfo@lionslodde.se\nArrangörens telefonnummer\n0705424940\nArrangörens webbplats *\nlionslodde.se
LOCATION:Pålsavägen 2\, 24635\, Löddeköpinge
URL;VALUE=URI:https://evenemang.kavlinge.se/item/kommer-krigen-i-mellanostern-aldrig-ta-slut/s2qe7qlomdq4on6ljo0yay6ylbfog2g1
SUMMARY:Kommer krigen i Mellanöstern aldrig ta slut?
TRANSP:TRANSPARENT
END:VEVENT
END:VCALENDAR