BEGIN:VCALENDAR
PRODID:-//Hoodin AB//NONSGML Hoodin Smart Content Curator//EN
VERSION:2.0
BEGIN:VEVENT
UID:L5VxDtH870sBG5lsWxxjTbDUL31RZ6Qx
CREATED:20260422T105727Z
DTSTAMP:20260424T171535Z
DTSTART:20260428T163000Z
DTEND:20260428T180000Z
DESCRIPTION:\nDet är 30 år sedan tågolyckan inträffade och tre ammoniakvagnar spårade ur\, varav två välte med stor påverkan för lokalsamhället. 9000 personer evakuerades\, Räddningsarbetet pågick i tre dagar. Olyckan filmades under dag 2-3-\nFöredrag och roller vid olyckan.\nBo Hirche\, Räddningsledare. Mats Svedberg\, Kommuninformatör/administratör. Alf-Göran Rappner Kemdykare.\nArrangörer\nHarjagers Hembygdsförening\nArrangörens e-post\nhembygd.harjager@gmail.com\nArrangörens telefonnummer\n0739048084\nArrangörens webbplats *\nhembygd.se/harjagers-harad
LOCATION:Mejerigränden 3\, 24430\, Kävlinge
URL;VALUE=URI:https://evenemang.kavlinge.se/item/foredrag-tagolyckan-1996-kavlingefurulund/hrm1q8s1eqhpcgsvwgm0ks59zovqsvtd
SUMMARY:Föredrag: Tågolyckan 1996 Kävlinge/Furulund
TRANSP:TRANSPARENT
END:VEVENT
END:VCALENDAR