BEGIN:VCALENDAR
PRODID:-//Hoodin AB//NONSGML Hoodin Smart Content Curator//EN
VERSION:2.0
BEGIN:VEVENT
UID:mZrWzpyu3Sz6shMJx9no6Aw5NO6e5D5L
CREATED:20210729T103316Z
DTSTAMP:20260420T111834Z
DTSTART:20210807T080000Z
DTEND:20210807T120000Z
DESCRIPTION:\nLoppisen börjar kl 10.00.\nSäljaren väljer själv om de vill ta emot kontanter eller swish eller både och. Om du handlar med kontanter- se till att du har växel med för att underlätta.\nTa med egen påse\, alla säljare väljer själv om de vill erbjuda påse eller ej.\nKläder\, skor\, leksaker\, spel\, barnvagnar\, barnstolar -ALLT som hör barn till. Gravidkläder går också bra om man vill sälja det.\nInsläpp säljare kl.09:00. 150kr/bord eller 100kr bakluckeloppis. Markerade platser.
LOCATION:Dalgatan 22\, 24431\, Kävlinge
URL;VALUE=URI:https://evenemang.kavlinge.se/en/item/barnloppis/jdctordjcopzrjepafhr8ciwgjbrwhon
SUMMARY:Barnloppis!
TRANSP:TRANSPARENT
END:VEVENT
END:VCALENDAR